BEGIN:VCALENDAR
VERSION:2.0
PRODID:-//Tom Yawkey Wildlife Center - ECPv6.15.13//NONSGML v1.0//EN
CALSCALE:GREGORIAN
METHOD:PUBLISH
X-WR-CALNAME:Tom Yawkey Wildlife Center
X-ORIGINAL-URL:https://yawkeywildlifecenter.com
X-WR-CALDESC:Events for Tom Yawkey Wildlife Center
REFRESH-INTERVAL;VALUE=DURATION:PT1H
X-Robots-Tag:noindex
X-PUBLISHED-TTL:PT1H
BEGIN:VTIMEZONE
TZID:UTC
BEGIN:STANDARD
TZOFFSETFROM:+0000
TZOFFSETTO:+0000
TZNAME:UTC
DTSTART:20240101T000000
END:STANDARD
END:VTIMEZONE
BEGIN:VEVENT
DTSTART;TZID=UTC:20251001T100000
DTEND;TZID=UTC:20251001T140000
DTSTAMP:20260423T224429
CREATED:20250801T140749Z
LAST-MODIFIED:20250801T140749Z
UID:1169-1759312800-1759327200@yawkeywildlifecenter.com
SUMMARY:Birding and Wildlife Photography
DESCRIPTION:The Yawkey Wildlife Center is an important habitat for many species of birds and waterfowl\, as well as other wildlife! This trip will visit various habitats\, including brackish marshes\, managed wetlands\, and longleaf pine forests. Locations will vary due to the time of year and which birds are in residence. Make sure to bring your camera and binoculars! Participants should be prepared to cross the Intracoastal Waterway via pontoon boat\, as well as multiple short walks on relatively even ground. Bring a bag lunch and drink. Trips start at 10:00 and run until approximately 2:00.
URL:https://yawkeywildlifecenter.com/plan-your-visit/birding-and-wildlife-photography-27/
LOCATION:Tom Yawkey Wildlife Center\, 1 Yawkey Way S\, Georgetown\, SC\, 29440\, United States
END:VEVENT
BEGIN:VEVENT
DTSTART;TZID=UTC:20251003T100000
DTEND;TZID=UTC:20251003T140000
DTSTAMP:20260423T224429
CREATED:20250801T135839Z
LAST-MODIFIED:20250801T135839Z
UID:1150-1759485600-1759500000@yawkeywildlifecenter.com
SUMMARY:Introductory Field Trip
DESCRIPTION:Experience a guided educational field trip around the 24\,000-acre Tom Yawkey Wildlife Center\, learning about the history and ecology of the islands\, as well as the legacy of Tom and Jean Yawkey. This trip requires little walking\, but participants will need to navigate 2 floating docks and a pontoon boat to cross the Intracoastal Waterway\, as well as a few steps onto the tour bus. Bring a bag lunch and drink. Trips start at 10:00 and run until approximately 2:00.
URL:https://yawkeywildlifecenter.com/plan-your-visit/introductory-field-trip-11/
LOCATION:Tom Yawkey Wildlife Center\, 1 Yawkey Way S\, Georgetown\, SC\, 29440\, United States
END:VEVENT
BEGIN:VEVENT
DTSTART;TZID=UTC:20251007T100000
DTEND;TZID=UTC:20251007T140000
DTSTAMP:20260423T224429
CREATED:20250801T143723Z
LAST-MODIFIED:20250801T143723Z
UID:1195-1759831200-1759845600@yawkeywildlifecenter.com
SUMMARY:Awesome Alligators
DESCRIPTION:Learn why alligators are awesome as we explore their role in the ecosystem\, discuss alligator research at the Yawkey Wildlife Center\, and view alligators in their natural habitat. This program is designed to be family friendly for children elementary age and older\, but all children must be accompanied by an adult. It will be shorter in duration and include material and activities for younger audiences. This trip requires little walking\, but participants will need to navigate 2 floating docks and a pontoon boat to cross the Intracoastal Waterway\, as well as a few steps onto the tour bus. Bring a snack and drink. This trip will start at 10:00 and run until approximately 1:00.
URL:https://yawkeywildlifecenter.com/plan-your-visit/awesome-alligators-2/
LOCATION:Tom Yawkey Wildlife Center\, 1 Yawkey Way S\, Georgetown\, SC\, 29440\, United States
END:VEVENT
BEGIN:VEVENT
DTSTART;TZID=UTC:20251008T100000
DTEND;TZID=UTC:20251008T140000
DTSTAMP:20260423T224429
CREATED:20250801T140842Z
LAST-MODIFIED:20250801T140842Z
UID:1171-1759917600-1759932000@yawkeywildlifecenter.com
SUMMARY:Birding and Wildlife Photography
DESCRIPTION:The Yawkey Wildlife Center is an important habitat for many species of birds and waterfowl\, as well as other wildlife! This trip will visit various habitats\, including brackish marshes\, managed wetlands\, and longleaf pine forests. Locations will vary due to the time of year and which birds are in residence. Make sure to bring your camera and binoculars! Participants should be prepared to cross the Intracoastal Waterway via pontoon boat\, as well as multiple short walks on relatively even ground. Bring a bag lunch and drink. Trips start at 10:00 and run until approximately 2:00.
URL:https://yawkeywildlifecenter.com/plan-your-visit/birding-and-wildlife-photography-28/
LOCATION:Tom Yawkey Wildlife Center\, 1 Yawkey Way S\, Georgetown\, SC\, 29440\, United States
END:VEVENT
BEGIN:VEVENT
DTSTART;TZID=UTC:20251010T100000
DTEND;TZID=UTC:20251010T140000
DTSTAMP:20260423T224429
CREATED:20250801T135855Z
LAST-MODIFIED:20250801T135855Z
UID:1151-1760090400-1760104800@yawkeywildlifecenter.com
SUMMARY:Introductory Field Trip
DESCRIPTION:Experience a guided educational field trip around the 24\,000-acre Tom Yawkey Wildlife Center\, learning about the history and ecology of the islands\, as well as the legacy of Tom and Jean Yawkey. This trip requires little walking\, but participants will need to navigate 2 floating docks and a pontoon boat to cross the Intracoastal Waterway\, as well as a few steps onto the tour bus. Bring a bag lunch and drink. Trips start at 10:00 and run until approximately 2:00.
URL:https://yawkeywildlifecenter.com/plan-your-visit/introductory-field-trip-12/
LOCATION:Tom Yawkey Wildlife Center\, 1 Yawkey Way S\, Georgetown\, SC\, 29440\, United States
END:VEVENT
BEGIN:VEVENT
DTSTART;TZID=UTC:20251014T100000
DTEND;TZID=UTC:20251014T140000
DTSTAMP:20260423T224429
CREATED:20250801T143822Z
LAST-MODIFIED:20250801T143822Z
UID:1198-1760436000-1760450400@yawkeywildlifecenter.com
SUMMARY:Carolina Rice Culture
DESCRIPTION:Learn about the history and cultural influences of Carolina Gold rice and its cultivation in Georgetown County and the land that is now the Yawkey Wildlife Center. Visit former rice plantations\, including the Belle Isle rice chimney\, listed on the National Register of Historic Places. We will explore topics including the techniques of cultivating and processing rice\, Gullah Culture\, and the present-day ecological influences of former rice fields. This trip requires little walking\, but participants will need to navigate 2 floating docks and a pontoon boat to cross the Intracoastal Waterway\, as well as a few steps onto the tour bus. Bring a bag lunch and drink. Trips start at 10:00 and run until approximately 2:00.
URL:https://yawkeywildlifecenter.com/plan-your-visit/carolina-rice-culture-6/
LOCATION:Tom Yawkey Wildlife Center\, 1 Yawkey Way S\, Georgetown\, SC\, 29440\, United States
END:VEVENT
BEGIN:VEVENT
DTSTART;TZID=UTC:20251015T100000
DTEND;TZID=UTC:20251015T140000
DTSTAMP:20260423T224429
CREATED:20250801T140854Z
LAST-MODIFIED:20250801T140854Z
UID:1172-1760522400-1760536800@yawkeywildlifecenter.com
SUMMARY:Birding and Wildlife Photography
DESCRIPTION:The Yawkey Wildlife Center is an important habitat for many species of birds and waterfowl\, as well as other wildlife! This trip will visit various habitats\, including brackish marshes\, managed wetlands\, and longleaf pine forests. Locations will vary due to the time of year and which birds are in residence. Make sure to bring your camera and binoculars! Participants should be prepared to cross the Intracoastal Waterway via pontoon boat\, as well as multiple short walks on relatively even ground. Bring a bag lunch and drink. Trips start at 10:00 and run until approximately 2:00.
URL:https://yawkeywildlifecenter.com/plan-your-visit/birding-and-wildlife-photography-29/
LOCATION:Tom Yawkey Wildlife Center\, 1 Yawkey Way S\, Georgetown\, SC\, 29440\, United States
END:VEVENT
BEGIN:VEVENT
DTSTART;TZID=UTC:20251017T100000
DTEND;TZID=UTC:20251017T140000
DTSTAMP:20260423T224429
CREATED:20250801T135910Z
LAST-MODIFIED:20250801T135910Z
UID:1152-1760695200-1760709600@yawkeywildlifecenter.com
SUMMARY:Introductory Field Trip
DESCRIPTION:Experience a guided educational field trip around the 24\,000-acre Tom Yawkey Wildlife Center\, learning about the history and ecology of the islands\, as well as the legacy of Tom and Jean Yawkey. This trip requires little walking\, but participants will need to navigate 2 floating docks and a pontoon boat to cross the Intracoastal Waterway\, as well as a few steps onto the tour bus. Bring a bag lunch and drink. Trips start at 10:00 and run until approximately 2:00.
URL:https://yawkeywildlifecenter.com/plan-your-visit/introductory-field-trip-13/
LOCATION:Tom Yawkey Wildlife Center\, 1 Yawkey Way S\, Georgetown\, SC\, 29440\, United States
END:VEVENT
BEGIN:VEVENT
DTSTART;TZID=UTC:20251022T100000
DTEND;TZID=UTC:20251022T140000
DTSTAMP:20260423T224429
CREATED:20250801T140910Z
LAST-MODIFIED:20250801T140910Z
UID:1173-1761127200-1761141600@yawkeywildlifecenter.com
SUMMARY:Birding and Wildlife Photography
DESCRIPTION:The Yawkey Wildlife Center is an important habitat for many species of birds and waterfowl\, as well as other wildlife! This trip will visit various habitats\, including brackish marshes\, managed wetlands\, and longleaf pine forests. Locations will vary due to the time of year and which birds are in residence. Make sure to bring your camera and binoculars! Participants should be prepared to cross the Intracoastal Waterway via pontoon boat\, as well as multiple short walks on relatively even ground. Bring a bag lunch and drink. Trips start at 10:00 and run until approximately 2:00.
URL:https://yawkeywildlifecenter.com/plan-your-visit/birding-and-wildlife-photography-30/
LOCATION:Tom Yawkey Wildlife Center\, 1 Yawkey Way S\, Georgetown\, SC\, 29440\, United States
END:VEVENT
BEGIN:VEVENT
DTSTART;TZID=UTC:20251024T100000
DTEND;TZID=UTC:20251024T140000
DTSTAMP:20260423T224429
CREATED:20250801T135921Z
LAST-MODIFIED:20250801T135921Z
UID:1153-1761300000-1761314400@yawkeywildlifecenter.com
SUMMARY:Introductory Field Trip
DESCRIPTION:Experience a guided educational field trip around the 24\,000-acre Tom Yawkey Wildlife Center\, learning about the history and ecology of the islands\, as well as the legacy of Tom and Jean Yawkey. This trip requires little walking\, but participants will need to navigate 2 floating docks and a pontoon boat to cross the Intracoastal Waterway\, as well as a few steps onto the tour bus. Bring a bag lunch and drink. Trips start at 10:00 and run until approximately 2:00.
URL:https://yawkeywildlifecenter.com/plan-your-visit/introductory-field-trip-14/
LOCATION:Tom Yawkey Wildlife Center\, 1 Yawkey Way S\, Georgetown\, SC\, 29440\, United States
END:VEVENT
BEGIN:VEVENT
DTSTART;TZID=UTC:20251028T100000
DTEND;TZID=UTC:20251028T140000
DTSTAMP:20260423T224429
CREATED:20250801T143915Z
LAST-MODIFIED:20250801T143915Z
UID:1201-1761645600-1761660000@yawkeywildlifecenter.com
SUMMARY:Longleaf Forest Walk
DESCRIPTION:Experience the beauty of one of the most endangered ecosystems\, the longleaf pine forest. Learn the historic use of longleaf\, as well as their ecological characteristics\, importance\, and present-day management. Program will include an extensive but leisurely hike through the forest and a visit to remains of a former sawmill on Cat Island. Participants should be prepared to cross the Intracoastal Waterway via pontoon boat\, as well as around 3 miles of walking on relatively even ground. Bring a bag lunch and drink. Trips start at 10:00 and run until approximately 2:00.
URL:https://yawkeywildlifecenter.com/plan-your-visit/longleaf-forest-walk-5/
LOCATION:Tom Yawkey Wildlife Center\, 1 Yawkey Way S\, Georgetown\, SC\, 29440\, United States
END:VEVENT
BEGIN:VEVENT
DTSTART;TZID=UTC:20251029T100000
DTEND;TZID=UTC:20251029T140000
DTSTAMP:20260423T224429
CREATED:20250801T140924Z
LAST-MODIFIED:20250801T140924Z
UID:1174-1761732000-1761746400@yawkeywildlifecenter.com
SUMMARY:Birding and Wildlife Photography
DESCRIPTION:The Yawkey Wildlife Center is an important habitat for many species of birds and waterfowl\, as well as other wildlife! This trip will visit various habitats\, including brackish marshes\, managed wetlands\, and longleaf pine forests. Locations will vary due to the time of year and which birds are in residence. Make sure to bring your camera and binoculars! Participants should be prepared to cross the Intracoastal Waterway via pontoon boat\, as well as multiple short walks on relatively even ground. Bring a bag lunch and drink. Trips start at 10:00 and run until approximately 2:00.
URL:https://yawkeywildlifecenter.com/plan-your-visit/birding-and-wildlife-photography-31/
LOCATION:Tom Yawkey Wildlife Center\, 1 Yawkey Way S\, Georgetown\, SC\, 29440\, United States
END:VEVENT
BEGIN:VEVENT
DTSTART;TZID=UTC:20251031T100000
DTEND;TZID=UTC:20251031T140000
DTSTAMP:20260423T224429
CREATED:20250801T144003Z
LAST-MODIFIED:20250801T144003Z
UID:1204-1761904800-1761919200@yawkeywildlifecenter.com
SUMMARY:Halloween Haints
DESCRIPTION:Explore the not-so-scary side of the Tom Yawkey Wildlife Center on this Halloween-themed field trip. Learn about creatures of the night like bats and owls\, including what species live here\, their ecological importance\, and how we monitor and manage for them. Then\, enjoy some spooky storytelling\, including some local ghost stories. This trip requires little walking\, but participants will need to navigate 2 floating docks and a pontoon boat to cross the Intracoastal Waterway\, as well as a few steps onto the tour bus. Bring a bag lunch and drink. Trips start at 10:00 and run until approximately 2:00.
URL:https://yawkeywildlifecenter.com/plan-your-visit/halloween-haints/
LOCATION:Tom Yawkey Wildlife Center\, 1 Yawkey Way S\, Georgetown\, SC\, 29440\, United States
END:VEVENT
END:VCALENDAR