BEGIN:VCALENDAR
VERSION:2.0
PRODID:-//Tom Yawkey Wildlife Center - ECPv6.15.13//NONSGML v1.0//EN
CALSCALE:GREGORIAN
METHOD:PUBLISH
X-WR-CALNAME:Tom Yawkey Wildlife Center
X-ORIGINAL-URL:https://yawkeywildlifecenter.com
X-WR-CALDESC:Events for Tom Yawkey Wildlife Center
REFRESH-INTERVAL;VALUE=DURATION:PT1H
X-Robots-Tag:noindex
X-PUBLISHED-TTL:PT1H
BEGIN:VTIMEZONE
TZID:UTC
BEGIN:STANDARD
TZOFFSETFROM:+0000
TZOFFSETTO:+0000
TZNAME:UTC
DTSTART:20250101T000000
END:STANDARD
END:VTIMEZONE
BEGIN:VEVENT
DTSTART;TZID=UTC:20260107T100000
DTEND;TZID=UTC:20260107T140000
DTSTAMP:20260423T182039
CREATED:20251111T022822Z
LAST-MODIFIED:20251111T022822Z
UID:1217-1767780000-1767794400@yawkeywildlifecenter.com
SUMMARY:Introductory Field Trip
DESCRIPTION:Experience a guided educational field trip around the 24\,000-acre Tom Yawkey Wildlife Center\, learning about the history and ecology of the islands\, as well as the legacy of Tom and Jean Yawkey. This trip requires little walking\, but participants will need to navigate 2 floating docks and a pontoon boat to cross the Intracoastal Waterway\, as well as a few steps onto the tour bus. Bring a bag lunch and drink. Trips start at 10:00 and run until approximately 2:00.
URL:https://yawkeywildlifecenter.com/plan-your-visit/introductory-field-trip-20/
LOCATION:Tom Yawkey Wildlife Center\, 1 Yawkey Way S\, Georgetown\, SC\, 29440\, United States
END:VEVENT
BEGIN:VEVENT
DTSTART;TZID=UTC:20260109T100000
DTEND;TZID=UTC:20260109T140000
DTSTAMP:20260423T182039
CREATED:20251111T024156Z
LAST-MODIFIED:20251111T024156Z
UID:1266-1767952800-1767967200@yawkeywildlifecenter.com
SUMMARY:Birding and Wildlife Photography
DESCRIPTION:The Yawkey Wildlife Center is an important habitat for many species of birds and waterfowl\, as well as other wildlife! This trip will visit various habitats\, including brackish marshes\, managed wetlands\, and longleaf pine forests. Locations will vary due to the time of year and which birds are in residence. Make sure to bring your camera and binoculars! Participants should be prepared to cross the Intracoastal Waterway via pontoon boat\, as well as multiple short walks on relatively even ground. Bring a bag lunch and drink. Trips start at 10:00 and run until approximately 2:00.
URL:https://yawkeywildlifecenter.com/plan-your-visit/birding-and-wildlife-photography-38/
LOCATION:Tom Yawkey Wildlife Center\, 1 Yawkey Way S\, Georgetown\, SC\, 29440\, United States
END:VEVENT
BEGIN:VEVENT
DTSTART;TZID=UTC:20260113T100000
DTEND;TZID=UTC:20260113T140000
DTSTAMP:20260423T182039
CREATED:20251111T025637Z
LAST-MODIFIED:20251111T025637Z
UID:1306-1768298400-1768312800@yawkeywildlifecenter.com
SUMMARY:From Forest to Marsh Walk
DESCRIPTION:Explore portions of Cat Island’s forest and brackish marshes on this walking trip. In addition to beautiful scenery\, you will learn about the management of these ecosystems and the plants and animals that thrive in these two very different environments. Program will include a leisurely hike through the forest and along the dikes of Cat Island. Participants should be prepared to cross the Intracoastal Waterway via pontoon boat\, as well as around 3 miles of walking on relatively even ground. Bring a bag lunch and drink. Trips start at 10:00 and run until approximately 2:00.
URL:https://yawkeywildlifecenter.com/plan-your-visit/from-forest-to-marsh-walk-3/
LOCATION:Tom Yawkey Wildlife Center\, 1 Yawkey Way S\, Georgetown\, SC\, 29440\, United States
END:VEVENT
BEGIN:VEVENT
DTSTART;TZID=UTC:20260114T100000
DTEND;TZID=UTC:20260114T140000
DTSTAMP:20260423T182039
CREATED:20251111T023013Z
LAST-MODIFIED:20251111T023013Z
UID:1219-1768384800-1768399200@yawkeywildlifecenter.com
SUMMARY:Introductory Field Trip
DESCRIPTION:Experience a guided educational field trip around the 24\,000-acre Tom Yawkey Wildlife Center\, learning about the history and ecology of the islands\, as well as the legacy of Tom and Jean Yawkey. This trip requires little walking\, but participants will need to navigate 2 floating docks and a pontoon boat to cross the Intracoastal Waterway\, as well as a few steps onto the tour bus. Bring a bag lunch and drink. Trips start at 10:00 and run until approximately 2:00.
URL:https://yawkeywildlifecenter.com/plan-your-visit/introductory-field-trip-21/
LOCATION:Tom Yawkey Wildlife Center\, 1 Yawkey Way S\, Georgetown\, SC\, 29440\, United States
END:VEVENT
BEGIN:VEVENT
DTSTART;TZID=UTC:20260116T100000
DTEND;TZID=UTC:20260116T140000
DTSTAMP:20260423T182039
CREATED:20251111T024240Z
LAST-MODIFIED:20251111T024240Z
UID:1269-1768557600-1768572000@yawkeywildlifecenter.com
SUMMARY:Birding and Wildlife Photography
DESCRIPTION:The Yawkey Wildlife Center is an important habitat for many species of birds and waterfowl\, as well as other wildlife! This trip will visit various habitats\, including brackish marshes\, managed wetlands\, and longleaf pine forests. Locations will vary due to the time of year and which birds are in residence. Make sure to bring your camera and binoculars! Participants should be prepared to cross the Intracoastal Waterway via pontoon boat\, as well as multiple short walks on relatively even ground. Bring a bag lunch and drink. Trips start at 10:00 and run until approximately 2:00.
URL:https://yawkeywildlifecenter.com/plan-your-visit/birding-and-wildlife-photography-39/
LOCATION:Tom Yawkey Wildlife Center\, 1 Yawkey Way S\, Georgetown\, SC\, 29440\, United States
END:VEVENT
BEGIN:VEVENT
DTSTART;TZID=UTC:20260121T100000
DTEND;TZID=UTC:20260121T140000
DTSTAMP:20260423T182039
CREATED:20251111T023031Z
LAST-MODIFIED:20251111T023031Z
UID:1220-1768989600-1769004000@yawkeywildlifecenter.com
SUMMARY:Introductory Field Trip
DESCRIPTION:Experience a guided educational field trip around the 24\,000-acre Tom Yawkey Wildlife Center\, learning about the history and ecology of the islands\, as well as the legacy of Tom and Jean Yawkey. This trip requires little walking\, but participants will need to navigate 2 floating docks and a pontoon boat to cross the Intracoastal Waterway\, as well as a few steps onto the tour bus. Bring a bag lunch and drink. Trips start at 10:00 and run until approximately 2:00.
URL:https://yawkeywildlifecenter.com/plan-your-visit/introductory-field-trip-22/
LOCATION:Tom Yawkey Wildlife Center\, 1 Yawkey Way S\, Georgetown\, SC\, 29440\, United States
END:VEVENT
BEGIN:VEVENT
DTSTART;TZID=UTC:20260122T100000
DTEND;TZID=UTC:20260122T140000
DTSTAMP:20260423T182039
CREATED:20251111T025804Z
LAST-MODIFIED:20251111T025804Z
UID:1309-1769076000-1769090400@yawkeywildlifecenter.com
SUMMARY:Carolina Rice Culture
DESCRIPTION:Learn about the history and cultural influences of Carolina Gold rice and its cultivation in Georgetown County and the land that is now the Yawkey Wildlife Center. Visit former rice plantations\, including the Belle Isle rice chimney\, listed on the National Register of Historic Places. We will explore topics including the techniques of cultivating and processing rice\, Gullah Culture\, and the present-day ecological influences of former rice fields. This trip requires little walking\, but participants will need to navigate 2 floating docks and a pontoon boat to cross the Intracoastal Waterway\, as well as a few steps onto the tour bus. Bring a bag lunch and drink. Trips start at 10:00 and run until approximately 2:00.
URL:https://yawkeywildlifecenter.com/plan-your-visit/carolina-rice-culture-7/
LOCATION:SC
END:VEVENT
BEGIN:VEVENT
DTSTART;TZID=UTC:20260123T100000
DTEND;TZID=UTC:20260123T140000
DTSTAMP:20260423T182039
CREATED:20251111T024253Z
LAST-MODIFIED:20251111T024253Z
UID:1270-1769162400-1769176800@yawkeywildlifecenter.com
SUMMARY:Birding and Wildlife Photography
DESCRIPTION:The Yawkey Wildlife Center is an important habitat for many species of birds and waterfowl\, as well as other wildlife! This trip will visit various habitats\, including brackish marshes\, managed wetlands\, and longleaf pine forests. Locations will vary due to the time of year and which birds are in residence. Make sure to bring your camera and binoculars! Participants should be prepared to cross the Intracoastal Waterway via pontoon boat\, as well as multiple short walks on relatively even ground. Bring a bag lunch and drink. Trips start at 10:00 and run until approximately 2:00.
URL:https://yawkeywildlifecenter.com/plan-your-visit/birding-and-wildlife-photography-40/
LOCATION:Tom Yawkey Wildlife Center\, 1 Yawkey Way S\, Georgetown\, SC\, 29440\, United States
END:VEVENT
BEGIN:VEVENT
DTSTART;TZID=UTC:20260127T100000
DTEND;TZID=UTC:20260127T140000
DTSTAMP:20260423T182039
CREATED:20251111T024321Z
LAST-MODIFIED:20251111T024321Z
UID:1271-1769508000-1769522400@yawkeywildlifecenter.com
SUMMARY:Birding and Wildlife Photography
DESCRIPTION:The Yawkey Wildlife Center is an important habitat for many species of birds and waterfowl\, as well as other wildlife! This trip will visit various habitats\, including brackish marshes\, managed wetlands\, and longleaf pine forests. Locations will vary due to the time of year and which birds are in residence. Make sure to bring your camera and binoculars! Participants should be prepared to cross the Intracoastal Waterway via pontoon boat\, as well as multiple short walks on relatively even ground. Bring a bag lunch and drink. Trips start at 10:00 and run until approximately 2:00.
URL:https://yawkeywildlifecenter.com/plan-your-visit/birding-and-wildlife-photography-41/
LOCATION:Tom Yawkey Wildlife Center\, 1 Yawkey Way S\, Georgetown\, SC\, 29440\, United States
END:VEVENT
BEGIN:VEVENT
DTSTART;TZID=UTC:20260128T100000
DTEND;TZID=UTC:20260128T140000
DTSTAMP:20260423T182039
CREATED:20251111T023043Z
LAST-MODIFIED:20251111T023043Z
UID:1221-1769594400-1769608800@yawkeywildlifecenter.com
SUMMARY:Introductory Field Trip
DESCRIPTION:Experience a guided educational field trip around the 24\,000-acre Tom Yawkey Wildlife Center\, learning about the history and ecology of the islands\, as well as the legacy of Tom and Jean Yawkey. This trip requires little walking\, but participants will need to navigate 2 floating docks and a pontoon boat to cross the Intracoastal Waterway\, as well as a few steps onto the tour bus. Bring a bag lunch and drink. Trips start at 10:00 and run until approximately 2:00.
URL:https://yawkeywildlifecenter.com/plan-your-visit/introductory-field-trip-23/
LOCATION:Tom Yawkey Wildlife Center\, 1 Yawkey Way S\, Georgetown\, SC\, 29440\, United States
END:VEVENT
END:VCALENDAR