BEGIN:VCALENDAR
VERSION:2.0
PRODID:-//Tom Yawkey Wildlife Center - ECPv6.15.13//NONSGML v1.0//EN
CALSCALE:GREGORIAN
METHOD:PUBLISH
X-WR-CALNAME:Tom Yawkey Wildlife Center
X-ORIGINAL-URL:https://yawkeywildlifecenter.com
X-WR-CALDESC:Events for Tom Yawkey Wildlife Center
REFRESH-INTERVAL;VALUE=DURATION:PT1H
X-Robots-Tag:noindex
X-PUBLISHED-TTL:PT1H
BEGIN:VTIMEZONE
TZID:UTC
BEGIN:STANDARD
TZOFFSETFROM:+0000
TZOFFSETTO:+0000
TZNAME:UTC
DTSTART:20250101T000000
END:STANDARD
END:VTIMEZONE
BEGIN:VEVENT
DTSTART;TZID=UTC:20260303T100000
DTEND;TZID=UTC:20260303T140000
DTSTAMP:20260423T151002
CREATED:20251111T024604Z
LAST-MODIFIED:20251111T024604Z
UID:1282-1772532000-1772546400@yawkeywildlifecenter.com
SUMMARY:Birding and Wildlife Photography
DESCRIPTION:The Yawkey Wildlife Center is an important habitat for many species of birds and waterfowl\, as well as other wildlife! This trip will visit various habitats\, including brackish marshes\, managed wetlands\, and longleaf pine forests. Locations will vary due to the time of year and which birds are in residence. Make sure to bring your camera and binoculars! Participants should be prepared to cross the Intracoastal Waterway via pontoon boat\, as well as multiple short walks on relatively even ground. Bring a bag lunch and drink. Trips start at 10:00 and run until approximately 2:00.
URL:https://yawkeywildlifecenter.com/plan-your-visit/birding-and-wildlife-photography-45/
LOCATION:Tom Yawkey Wildlife Center\, 1 Yawkey Way S\, Georgetown\, SC\, 29440\, United States
END:VEVENT
BEGIN:VEVENT
DTSTART;TZID=UTC:20260304T100000
DTEND;TZID=UTC:20260304T140000
DTSTAMP:20260423T151002
CREATED:20251111T023309Z
LAST-MODIFIED:20251111T023309Z
UID:1232-1772618400-1772632800@yawkeywildlifecenter.com
SUMMARY:Introductory Field Trip
DESCRIPTION:Experience a guided educational field trip around the 24\,000-acre Tom Yawkey Wildlife Center\, learning about the history and ecology of the islands\, as well as the legacy of Tom and Jean Yawkey. This trip requires little walking\, but participants will need to navigate 2 floating docks and a pontoon boat to cross the Intracoastal Waterway\, as well as a few steps onto the tour bus. Bring a bag lunch and drink. Trips start at 10:00 and run until approximately 2:00.
URL:https://yawkeywildlifecenter.com/plan-your-visit/introductory-field-trip-27/
LOCATION:Tom Yawkey Wildlife Center\, 1 Yawkey Way S\, Georgetown\, SC\, 29440\, United States
END:VEVENT
BEGIN:VEVENT
DTSTART;TZID=UTC:20260310T100000
DTEND;TZID=UTC:20260310T140000
DTSTAMP:20260423T151002
CREATED:20251111T024619Z
LAST-MODIFIED:20251111T024619Z
UID:1283-1773136800-1773151200@yawkeywildlifecenter.com
SUMMARY:Birding and Wildlife Photography
DESCRIPTION:The Yawkey Wildlife Center is an important habitat for many species of birds and waterfowl\, as well as other wildlife! This trip will visit various habitats\, including brackish marshes\, managed wetlands\, and longleaf pine forests. Locations will vary due to the time of year and which birds are in residence. Make sure to bring your camera and binoculars! Participants should be prepared to cross the Intracoastal Waterway via pontoon boat\, as well as multiple short walks on relatively even ground. Bring a bag lunch and drink. Trips start at 10:00 and run until approximately 2:00.
URL:https://yawkeywildlifecenter.com/plan-your-visit/birding-and-wildlife-photography-46/
LOCATION:Tom Yawkey Wildlife Center\, 1 Yawkey Way S\, Georgetown\, SC\, 29440\, United States
END:VEVENT
BEGIN:VEVENT
DTSTART;TZID=UTC:20260311T100000
DTEND;TZID=UTC:20260311T140000
DTSTAMP:20260423T151002
CREATED:20251111T023324Z
LAST-MODIFIED:20251111T023324Z
UID:1233-1773223200-1773237600@yawkeywildlifecenter.com
SUMMARY:Introductory Field Trip
DESCRIPTION:Experience a guided educational field trip around the 24\,000-acre Tom Yawkey Wildlife Center\, learning about the history and ecology of the islands\, as well as the legacy of Tom and Jean Yawkey. This trip requires little walking\, but participants will need to navigate 2 floating docks and a pontoon boat to cross the Intracoastal Waterway\, as well as a few steps onto the tour bus. Bring a bag lunch and drink. Trips start at 10:00 and run until approximately 2:00.
URL:https://yawkeywildlifecenter.com/plan-your-visit/introductory-field-trip-28/
LOCATION:Tom Yawkey Wildlife Center\, 1 Yawkey Way S\, Georgetown\, SC\, 29440\, United States
END:VEVENT
BEGIN:VEVENT
DTSTART;TZID=UTC:20260313T100000
DTEND;TZID=UTC:20260313T140000
DTSTAMP:20260423T151002
CREATED:20251111T025841Z
LAST-MODIFIED:20251111T025841Z
UID:1312-1773396000-1773410400@yawkeywildlifecenter.com
SUMMARY:Carolina Rice Culture
DESCRIPTION:Learn about the history and cultural influences of Carolina Gold rice and its cultivation in Georgetown County and the land that is now the Yawkey Wildlife Center. Visit former rice plantations\, including the Belle Isle rice chimney\, listed on the National Register of Historic Places. We will explore topics including the techniques of cultivating and processing rice\, Gullah Culture\, and the present-day ecological influences of former rice fields. This trip requires little walking\, but participants will need to navigate 2 floating docks and a pontoon boat to cross the Intracoastal Waterway\, as well as a few steps onto the tour bus. Bring a bag lunch and drink. Trips start at 10:00 and run until approximately 2:00.
URL:https://yawkeywildlifecenter.com/plan-your-visit/carolina-rice-culture-8/
LOCATION:Tom Yawkey Wildlife Center\, 1 Yawkey Way S\, Georgetown\, SC\, 29440\, United States
END:VEVENT
BEGIN:VEVENT
DTSTART;TZID=UTC:20260318T100000
DTEND;TZID=UTC:20260318T140000
DTSTAMP:20260423T151002
CREATED:20251111T023348Z
LAST-MODIFIED:20251111T023348Z
UID:1234-1773828000-1773842400@yawkeywildlifecenter.com
SUMMARY:Introductory Field Trip
DESCRIPTION:Experience a guided educational field trip around the 24\,000-acre Tom Yawkey Wildlife Center\, learning about the history and ecology of the islands\, as well as the legacy of Tom and Jean Yawkey. This trip requires little walking\, but participants will need to navigate 2 floating docks and a pontoon boat to cross the Intracoastal Waterway\, as well as a few steps onto the tour bus. Bring a bag lunch and drink. Trips start at 10:00 and run until approximately 2:00.
URL:https://yawkeywildlifecenter.com/plan-your-visit/introductory-field-trip-29/
LOCATION:Tom Yawkey Wildlife Center\, 1 Yawkey Way S\, Georgetown\, SC\, 29440\, United States
END:VEVENT
BEGIN:VEVENT
DTSTART;TZID=UTC:20260320T100000
DTEND;TZID=UTC:20260320T140000
DTSTAMP:20260423T151002
CREATED:20251111T030505Z
LAST-MODIFIED:20251111T030515Z
UID:1323-1774000800-1774015200@yawkeywildlifecenter.com
SUMMARY:Spring Nature Walk
DESCRIPTION:What better way to celebrate the beginning of spring than with a walk at the Yawkey Wildlife Center! This will be a leisurely nature walk\, discussing the flora and fauna we see along the way. We will cover about 3 miles and stop for lunch along the way. Participants should be prepared to cross the Intracoastal Waterway via pontoon boat\, as well as walking on relatively even ground. Bring a bag lunch and drink. This time of year always has the potential to be buggy so come prepared! Trips start at 10:00 and run until approximately 2:00.
URL:https://yawkeywildlifecenter.com/plan-your-visit/spring-nature-walk-2/
LOCATION:Tom Yawkey Wildlife Center\, 1 Yawkey Way S\, Georgetown\, SC\, 29440\, United States
END:VEVENT
BEGIN:VEVENT
DTSTART;TZID=UTC:20260331T100000
DTEND;TZID=UTC:20260331T140000
DTSTAMP:20260423T151002
CREATED:20251111T024639Z
LAST-MODIFIED:20251111T024639Z
UID:1284-1774951200-1774965600@yawkeywildlifecenter.com
SUMMARY:Birding and Wildlife Photography
DESCRIPTION:The Yawkey Wildlife Center is an important habitat for many species of birds and waterfowl\, as well as other wildlife! This trip will visit various habitats\, including brackish marshes\, managed wetlands\, and longleaf pine forests. Locations will vary due to the time of year and which birds are in residence. Make sure to bring your camera and binoculars! Participants should be prepared to cross the Intracoastal Waterway via pontoon boat\, as well as multiple short walks on relatively even ground. Bring a bag lunch and drink. Trips start at 10:00 and run until approximately 2:00.
URL:https://yawkeywildlifecenter.com/plan-your-visit/birding-and-wildlife-photography-47/
LOCATION:Tom Yawkey Wildlife Center\, 1 Yawkey Way S\, Georgetown\, SC\, 29440\, United States
END:VEVENT
END:VCALENDAR